BEGIN:VCALENDAR
VERSION:2.0
PRODID:-//Break Free Fitness - ECPv5.2.0//NONSGML v1.0//EN
CALSCALE:GREGORIAN
METHOD:PUBLISH
X-WR-CALNAME:Break Free Fitness
X-ORIGINAL-URL:https://www.breakfreefitness.com.au
X-WR-CALDESC:Events for Break Free Fitness
BEGIN:VTIMEZONE
TZID:UTC
BEGIN:STANDARD
TZOFFSETFROM:+0000
TZOFFSETTO:+0000
TZNAME:UTC
DTSTART:20170101T000000
END:STANDARD
END:VTIMEZONE
BEGIN:VEVENT
DTSTART;TZID=UTC:20170109T181000
DTEND;TZID=UTC:20170109T185500
DTSTAMP:20210226T190824
CREATED:20161206T092534Z
LAST-MODIFIED:20161206T092534Z
UID:678-1483985400-1483988100@www.breakfreefitness.com.au
SUMMARY:Boxing boot camp
DESCRIPTION:
URL:https://www.breakfreefitness.com.au/sessions/boxing-boot-camp/
LOCATION:Hillside Community Centre\, Hillside Recreation Reserve
END:VEVENT
END:VCALENDAR