BEGIN:VCALENDAR
VERSION:2.0
PRODID:-//Break Free Fitness - ECPv5.2.0//NONSGML v1.0//EN
CALSCALE:GREGORIAN
METHOD:PUBLISH
X-WR-CALNAME:Break Free Fitness
X-ORIGINAL-URL:https://www.breakfreefitness.com.au
X-WR-CALDESC:Events for Break Free Fitness
BEGIN:VTIMEZONE
TZID:UTC
BEGIN:STANDARD
TZOFFSETFROM:+0000
TZOFFSETTO:+0000
TZNAME:UTC
DTSTART:20170101T000000
END:STANDARD
END:VTIMEZONE
BEGIN:VEVENT
DTSTART;TZID=UTC:20170109T093000
DTEND;TZID=UTC:20170109T101500
DTSTAMP:20210226T190748
CREATED:20161206T092218Z
LAST-MODIFIED:20161206T092611Z
UID:675-1483954200-1483956900@www.breakfreefitness.com.au
SUMMARY:Boxing Boot Camp
DESCRIPTION:
URL:https://www.breakfreefitness.com.au/sessions/tone-and-burn-boxing-boot-camp/
LOCATION:Hillside Community Centre\, Hillside Recreation Reserve
END:VEVENT
END:VCALENDAR